Workbook

Sheet <Naam zorginstelling>
A1: MONITORING | J1: Datum | K1: Type zak inhoud L | L1: # zakken retour | M1: # zakken hergebruikt | N1: #ritten | O1: Kg EPS | P1: Kwaliteit | Q1: Volume bespaard m3
M2: =L2*'Datablad'!$G$8 -> 0 | Q2: =K2*L2/1000 -> 0
A3: Periode | B3: <startdatum> t/m <einddatum> | M3: =L3*'Datablad'!$G$8 -> 0 | Q3: =K3*L3/1000 -> 0
A4: Aantal zakken retour | B4: =SUM(L7,L13,L19,L25,L31,L37) -> 0 | M4: =L4*'Datablad'!$G$8 -> 0 | Q4: =K4*L4/1000 -> 0
A5: Hoeveelheid EPS retour (kg) | B5: =SUM(O7,O13,O19,O25,O31,O37) -> 0 | M5: =L5*'Datablad'!$G$8 -> 0 | Q5: =K5*L5/1000 -> 0
A6: Kwaliteit EPS retour | M6: =L6*'Datablad'!$G$8 -> 0 | Q6: =K6*L6/1000 -> 0
A7: Volume afval bespaard (m3) | B7: =SUM(Q7,Q13,Q19,Q25,Q31,Q37) -> 0 | J7: <Maand + jaartal> | L7: =SUM(L2:L6) -> 0 | M7: =SUM(M2:M6) -> 0 | N7: =SUM(N2:N6) -> 0 | O7: =SUM(O2:O6) -> 0 | Q7: =SUM(Q2:Q6) -> 0
M8: =L8*'Datablad'!$G$8 -> 0 | Q8: =K8*L8/1000 -> 0
A9: Milieu-impact | B9: Eenheid | C9: Aantal | E9: Kosten | F9: Bedrag € | G9: Opbrengsten | H9: Bedrag € | M9: =L9*'Datablad'!$G$8 -> 0 | Q9: =K9*L9/1000 -> 0
A10: Vermijden fossiel EPS | B10: Kg CO2-eq./kg EPS | C10: =B5*-'Datablad'!G22 -> 0 | E10: Knapzakhouders | F10: =1*'Datablad'!G3 -> 0 | G10: Niet inkopen EPS virgin | H10: =(O7*'Datablad'!C2)+(O13*'Datablad'!C3)+(O19*'Datablad'!C4)+(O25*'Datablad'!C5)+(O31*'Datablad'!C6)+(O37*'Datablad'!C7) | M10: =L10*'Datablad'!$G$8 -> 0 | Q10: =K10*L10/1000 -> 0
A11: Vermijden verbranding EPS | B11: Kg CO2-eq./kg EPS | C11: =B5*-'Datablad'!G23 -> 0 | E11: Inzamelzakken | F11: =(SUM(L7,L13,L19,L25,L31,L37)-SUM(M7,M13,M19,M25,M31,M37))*'Datablad'!G4 -> 0 | G11: Reductie afvalkosten | H11: =B7*'Datablad'!G19 -> 0 | M11: =L11*'Datablad'!$G$8 -> 0 | Q11: =K11*L11/1000 -> 0
A12: Upcycling EPS verpakking | B12: #Verpakkingen | C12: =B5/'Datablad'!G24 | E12: Handeling | F12: =SUM(L13,L19,L25,L31,L37)*SUM('Datablad'!G11,'Datablad'!G12,'Datablad'!G13) -> 0 | M12: =L12*'Datablad'!$G$8 -> 0 | Q12: =K12*L12/1000 -> 0
A13: Reductie transportbewegingen afvalinzameling | B13: Km | C13: =SUM(N7,N13,N19,N25,N31,N37)*'Datablad'!G25 -> 0 | E13: Transport | F13: =SUM(N7,N13,N19,N25,N31,N37)*'Datablad'!G16 -> 0 | J13: <Maand + jaartal> | L13: =SUM(L8:L12) -> 0 | M13: =SUM(M8:M12) -> 0 | N13: =SUM(N8:N12) -> 0 | O13: =SUM(O8:O12) -> 0 | Q13: =SUM(Q8:Q12) -> 0
E14: Totaal excl. btw | F14: =SUM(F10:F13) -> 0 | G14: Totaal excl. btw | H14: =SUM(H10:H13) | M14: =L14*'Datablad'!$G$8 -> 0 | Q14: =K14*L14/1000 -> 0
G15: Resultaat | H15: =H14-F14 | M15: =L15*'Datablad'!$G$8 -> 0 | Q15: =K15*L15/1000 -> 0
A16: Ervaring medewerkers zorginstelling | M16: =L16*'Datablad'!$G$8 -> 0 | Q16: =K16*L16/1000 -> 0
M17: =L17*'Datablad'!$G$8 -> 0 | Q17: =K17*L17/1000 -> 0
M18: =L18*'Datablad'!$G$8 -> 0 | Q18: =K18*L18/1000 -> 0
J19: <Maand + jaartal> | L19: =SUM(L14:L18) -> 0 | M19: =SUM(M14:M18) -> 0 | N19: =SUM(N14:N18) -> 0 | O19: =SUM(O14:O18) -> 0 | Q19: =SUM(Q14:Q18) -> 0
M20: =L20*'Datablad'!$G$8 -> 0 | Q20: =K20*L20/1000 -> 0
M21: =L21*'Datablad'!$G$8 -> 0 | Q21: =K21*L21/1000 -> 0
M22: =L22*'Datablad'!$G$8 -> 0 | Q22: =K22*L22/1000 -> 0
M23: =L23*'Datablad'!$G$8 -> 0 | Q23: =K23*L23/1000 -> 0
A24: Ervaring medewerkers afvalinzamelaar | M24: =L24*'Datablad'!$G$8 -> 0 | Q24: =K24*L24/1000 -> 0
J25: <Maand + jaartal> | L25: =SUM(L20:L24) -> 0 | M25: =SUM(M20:M24) -> 0 | N25: =SUM(N20:N24) -> 0 | O25: =SUM(O20:O24) -> 0 | Q25: =SUM(Q20:Q24) -> 0
M26: =L26*'Datablad'!$G$8 -> 0 | Q26: =K26*L26/1000 -> 0
M27: =L27*'Datablad'!$G$8 -> 0 | Q27: =K27*L27/1000 -> 0
M28: =L28*'Datablad'!$G$8 -> 0 | Q28: =K28*L28/1000 -> 0
M29: =L29*'Datablad'!$G$8 -> 0 | Q29: =K29*L29/1000 -> 0
M30: =L30*'Datablad'!$G$8 -> 0 | Q30: =K30*L30/1000 -> 0
J31: <Maand + jaartal> | L31: =SUM(L26:L30) -> 0 | M31: =SUM(M26:M30) -> 0 | N31: =SUM(N26:N30) -> 0 | O31: =SUM(O26:O30) -> 0 | Q31: =SUM(Q26:Q30) -> 0
A32: Ervaring medewerkers verwerker | M32: =L32*'Datablad'!$G$8 -> 0 | Q32: =K32*L32/1000 -> 0
M33: =L33*'Datablad'!$G$8 -> 0 | Q33: =K33*L33/1000 -> 0
M34: =L34*'Datablad'!$G$8 -> 0 | Q34: =K34*L34/1000 -> 0
M35: =L35*'Datablad'!$G$8 -> 0 | Q35: =K35*L35/1000 -> 0
M36: =L36*'Datablad'!$G$8 -> 0 | Q36: =K36*L36/1000 -> 0
J37: <Maand + jaartal> | L37: =SUM(L32:L36) -> 0 | M37: =SUM(M32:M36) -> 0 | N37: =SUM(N32:N36) -> 0 | O37: =SUM(O32:O36) -> 0 | Q37: =SUM(Q32:Q36) -> 0
A40: Actielijst
A41: Actie | B41: Wie | C41: Status | D41: Toelichting

Sheet Datablad
A1: Prijs virgin EPS per kg | E1: Onderdeel | F1: Eenheid | G1: €/eenheid | I1: Kwaliteit EPS | J1: Status
A2: Jaar | B2: Maand | C2: €/kg | E2: Zakken | I2: Onvoldoende | J2: To do
A3: <Jaar> | B3: Jan | E3: Knapzakhouder | F3: St | I3: Voldoende | J3: In progress
B4: Feb | E4: Inzamelzak 400L | F4: St | I4: Goed | J4: Done
B5: Mrt | E5: Inzamelzak 600L | F5: St
B6: Apr | E6: Inzamelzak 1000L | F6: St
B7: Mei | E7: Inzamelzak 3000L | F7: St
B8: Jun | E8: Hergebruik zakken | F8: %
B9: Jul
B10: Aug | E10: Handeling
B11: Sep | E11: <Organisatienaam> medewerker | F11: Per zak
B12: Okt | E12: <Organisatienaam> medewerker | F12: Per zak
B13: Nov | E13: Etc. | F13: Per zak
B14: Dec
A15: <Jaar> | B15: Jan | E15: Transport | F15: Eenheid
B16: Feb | E16: Transportkosten | F16: Rit
B17: Mrt
B18: Apr | E18: Restafval
B19: Mei | E19: Inzamelings- en verwerkingskosten | F19: M3
B20: Jun
B21: Jul | E21: Milieu-impact | F21: Eenheid
B22: Aug | E22: Vermijden fossiel EPS | F22: Kg CO2-eq./kg EPS | G22: -2.4
B23: Sep | E23: Vermijden verbranding EPS | F23: Kg CO2-eq./kg EPS | G23: -2.1
B24: Okt | E24: Upcycling EPS verpakking | F24: Kg retour EPS/verpakking
B25: Nov | E25: Reductie transportbewegingen afvalinzameling | F25: Kilometer/rit
B26: Dec
A27: Etc. | B27: Etc.
